BEGIN:VCALENDAR
PRODID:www.georgfischer.com
VERSION:2.0
CALSCALE:GREGORIAN
METHOD:PUBLISH
BEGIN:VEVENT
DTSTAMP:20260421T091909Z
UID:7c70a9b1-c7d1-4415-b11d-416a88715c64
DESCRIPTION:For investors\, analysts and media only:&nbsp\;To join the Video Webcast\, please use this link (Chorus Call).\nThe conference language is English.\n
X-ALT-DESC;FMTTYPE=text/html:<p><i><b>For investors\, analysts and media only:&nbsp\;</b></i>To join the Video Webcast\, please use this <b><a title=\"Video Webcast\" href=\"https://media.choruscall.eu/mediaframe/webcast.html?webcastid=4StaWT5R\" target=\"_blank\" rel=\"noopener noreferrer\">link</a></b> (Chorus Call).</p>\n<p>The conference language is English.</p>\n
LOCATION:GF Piping Systems\, Ebnatstrasse 111\, Schaffhausen (Switzerland) / With Video Webcast
SUMMARY:Flow Solutions Day 2023
DTSTART:20231116T120000Z
DTEND:20231116T170000Z
URL:https://media.choruscall.eu/mediaframe/webcast.html?webcastid=4StaWT5R
END:VEVENT
END:VCALENDAR
